BEGIN:VCALENDAR
VERSION:2.0
PRODID:-//Vaasi Foundation - ECPv6.15.20//NONSGML v1.0//EN
CALSCALE:GREGORIAN
METHOD:PUBLISH
X-ORIGINAL-URL:https://www.vaasi.foundation
X-WR-CALDESC:Events for Vaasi Foundation
REFRESH-INTERVAL;VALUE=DURATION:PT1H
X-Robots-Tag:noindex
X-PUBLISHED-TTL:PT1H
BEGIN:VTIMEZONE
TZID:America/Chicago
BEGIN:DAYLIGHT
TZOFFSETFROM:-0600
TZOFFSETTO:-0500
TZNAME:CDT
DTSTART:20180311T080000
END:DAYLIGHT
BEGIN:STANDARD
TZOFFSETFROM:-0500
TZOFFSETTO:-0600
TZNAME:CST
DTSTART:20181104T070000
END:STANDARD
BEGIN:DAYLIGHT
TZOFFSETFROM:-0600
TZOFFSETTO:-0500
TZNAME:CDT
DTSTART:20190310T080000
END:DAYLIGHT
BEGIN:STANDARD
TZOFFSETFROM:-0500
TZOFFSETTO:-0600
TZNAME:CST
DTSTART:20191103T070000
END:STANDARD
BEGIN:DAYLIGHT
TZOFFSETFROM:-0600
TZOFFSETTO:-0500
TZNAME:CDT
DTSTART:20200308T080000
END:DAYLIGHT
BEGIN:STANDARD
TZOFFSETFROM:-0500
TZOFFSETTO:-0600
TZNAME:CST
DTSTART:20201101T070000
END:STANDARD
BEGIN:DAYLIGHT
TZOFFSETFROM:-0600
TZOFFSETTO:-0500
TZNAME:CDT
DTSTART:20210314T080000
END:DAYLIGHT
BEGIN:STANDARD
TZOFFSETFROM:-0500
TZOFFSETTO:-0600
TZNAME:CST
DTSTART:20211107T070000
END:STANDARD
END:VTIMEZONE
BEGIN:VEVENT
DTSTART;TZID=America/Chicago:20200523T080000
DTEND;TZID=America/Chicago:20200524T160000
DTSTAMP:20260423T132822
CREATED:20200119T231831Z
LAST-MODIFIED:20200119T231831Z
UID:9138-1590220800-1590336000@www.vaasi.foundation
SUMMARY:Vaasi-Yoga for Beginners-Detroit\, Michigan (English)
DESCRIPTION:This is a weekend batch of aspiring Vaasi Yogis in English language. This is a beginner Vaasi Yoga course. \nThe classes (includes lectures and Vaasi initiations) will be conducted in two sessions: \nSession 1 (Saturday): 8 AM to 4 PM with a lunch break around noon\nSession 2 (Sunday): 8 AM to 4 PM with a lunch break around noon \nTo register for this course\, please submit your details using this form: https://forms.gle/6RGC6WtNeN6tNZ8cA \nOnce accepted into this course\, individuals will receive guidelines for attending the course along with venue and timing details etc.
URL:https://www.vaasi.foundation/event/vaasi-yoga-for-beginners-detroit-michigan-23-may-2020/
LOCATION:Detroit\, MI\, Detroit\, MI\, United States
CATEGORIES:Beginner
ATTACH;FMTTYPE=image/jpeg:https://www.vaasi.foundation/wp-content/uploads/2019/03/Vaasi-Yoga-Image-6.jpg
END:VEVENT
BEGIN:VEVENT
DTSTART;TZID=America/Chicago:20200516T080000
DTEND;TZID=America/Chicago:20200517T170000
DTSTAMP:20260423T132822
CREATED:20200126T173638Z
LAST-MODIFIED:20200126T173638Z
UID:9282-1589616000-1589734800@www.vaasi.foundation
SUMMARY:Vaasi-Yoga for Beginners-Virginia (English)
DESCRIPTION:This is a weekend batch of aspiring Vaasi Yogis in English language. This is a beginner Vaasi Yoga course. \nThe classes (includes lectures and Vaasi initiations) will be conducted in two sessions: \nSession 1 (Saturday): 8 AM to 5 PM with a lunch break around noon\nSession 2 (Sunday): 8 AM to 5 PM with a lunch break around noon \nTo register for this course\, please submit your details using this form: https://forms.gle/uV42X37XkxieP5Cs5 \nOnce accepted into this course\, individuals will receive guidelines for attending the course along with venue and timing details etc.
URL:https://www.vaasi.foundation/event/vaasi-yoga-for-beginners-virginia-16-may-2020/
LOCATION:Virginia\, VA\, United States
CATEGORIES:Beginner
ATTACH;FMTTYPE=image/jpeg:https://www.vaasi.foundation/wp-content/uploads/2019/03/Vaasi-Yoga-Image-6.jpg
END:VEVENT
BEGIN:VEVENT
DTSTART;TZID=America/Chicago:20200509T080000
DTEND;TZID=America/Chicago:20200510T170000
DTSTAMP:20260423T132822
CREATED:20200126T173451Z
LAST-MODIFIED:20200126T173451Z
UID:9279-1589011200-1589130000@www.vaasi.foundation
SUMMARY:Vaasi-Yoga for Beginners-Virginia (Tamil)
DESCRIPTION:This is a weekend batch of aspiring Vaasi Yogis in English language. This is a beginner Vaasi Yoga course. \nThe classes (includes lectures and Vaasi initiations) will be conducted in two sessions: \nSession 1 (Saturday): 8 AM to 5 PM with a lunch break around noon\nSession 2 (Sunday): 8 AM to 5 PM with a lunch break around noon \nTo register for this course\, please submit your details using this form: https://forms.gle/uV42X37XkxieP5Cs5 \nOnce accepted into this course\, individuals will receive guidelines for attending the course along with venue and timing details etc.
URL:https://www.vaasi.foundation/event/vaasi-yoga-for-beginners-virginia-09-may-2020/
LOCATION:Virginia\, VA\, United States
CATEGORIES:Beginner
ATTACH;FMTTYPE=image/jpeg:https://www.vaasi.foundation/wp-content/uploads/2019/03/Vaasi-Yoga-Image-6.jpg
END:VEVENT
BEGIN:VEVENT
DTSTART;TZID=America/Chicago:20200502T080000
DTEND;TZID=America/Chicago:20200503T170000
DTSTAMP:20260423T132822
CREATED:20200125T033214Z
LAST-MODIFIED:20200126T173144Z
UID:9247-1588406400-1588525200@www.vaasi.foundation
SUMMARY:Vaasi-Yoga for Beginners-Chicago (Tamil)
DESCRIPTION:This is a weekend batch of aspiring Vaasi Yogis in English language. This is a beginner Vaasi Yoga course. \nThe classes (includes lectures and Vaasi initiations) will be conducted in two sessions: \nSession 1 (Saturday): 8 AM to 5 PM with a lunch break around noon\nSession 2 (Sunday): 8 AM to 5 PM with a lunch break around noon \nTo register for this course\, please submit your details using this form: https://forms.gle/e3uqnY9FEpxpQbX86 \nOnce accepted into this course\, individuals will receive guidelines for attending the course along with venue and timing details etc.
URL:https://www.vaasi.foundation/event/vaasi-yoga-for-beginners-chicago-02-may2020/
LOCATION:Chicago\, IL\, Chicago\, IL\, United States
CATEGORIES:Beginner
ATTACH;FMTTYPE=image/jpeg:https://www.vaasi.foundation/wp-content/uploads/2019/03/Vaasi-Yoga-Image-6.jpg
END:VEVENT
BEGIN:VEVENT
DTSTART;TZID=America/Chicago:20200328T080000
DTEND;TZID=America/Chicago:20200329T170000
DTSTAMP:20260423T132822
CREATED:20200313T131456Z
LAST-MODIFIED:20200313T131456Z
UID:10427-1585382400-1585501200@www.vaasi.foundation
SUMMARY:Vaasi-Yoga for Beginners - DFW Area (English)
DESCRIPTION:This is a weekend batch of aspiring Vaasi Yogis in English language. This is a beginner Vaasi Yoga course. \nThe classes (includes lectures and Vaasi initiations) will be conducted in two sessions: \nSession 1 (Saturday): 10 AM to 6 PM \nSession 2 (Sunday): 10 AM to 6 PM  \nTo register for this course\, please submit your details using this form: DFW Classes Signup Form \nOnce accepted into this course\, individuals will receive guidelines for attending the course along with venue and timing details etc.
URL:https://www.vaasi.foundation/event/vaasi-yoga-for-beginners-dfw-english/
LOCATION:TBD\, To Be Announced\, DFW Area\, TX\, United States
CATEGORIES:Beginner
ATTACH;FMTTYPE=image/jpeg:https://www.vaasi.foundation/wp-content/uploads/2019/03/Vaasi-Yoga-Image-6.jpg
END:VEVENT
BEGIN:VEVENT
DTSTART;TZID=America/Chicago:20200321T080000
DTEND;TZID=America/Chicago:20200322T170000
DTSTAMP:20260423T132822
CREATED:20200125T033509Z
LAST-MODIFIED:20200125T033509Z
UID:9249-1584777600-1584896400@www.vaasi.foundation
SUMMARY:Vaasi-Yoga for Beginners-St. Louis (English)
DESCRIPTION:This is a weekend batch of aspiring Vaasi Yogis in English language. This is a beginner Vaasi Yoga course. \nThe classes (includes lectures and Vaasi initiations) will be conducted in two sessions: \nSession 1 (Saturday): 8 AM to 5 PM with a lunch break around noon\nSession 2 (Sunday): 8 AM to 5 PM with a lunch break around noon \nTo register for this course\, please submit your details using this form: https://forms.gle/3MLjYmu2D4WRTRYEA \nOnce accepted into this course\, individuals will receive guidelines for attending the course along with venue and timing details etc.
URL:https://www.vaasi.foundation/event/vaasi-yoga-for-beginners-stl-english-21-mar-2020/
LOCATION:on line\, United States
CATEGORIES:Beginner
ATTACH;FMTTYPE=image/jpeg:https://www.vaasi.foundation/wp-content/uploads/2019/03/Vaasi-Yoga-Image-6.jpg
END:VEVENT
BEGIN:VEVENT
DTSTART;TZID=America/Chicago:20200318T040000
DTEND;TZID=America/Chicago:20200505T220000
DTSTAMP:20260423T132822
CREATED:20200328T040334Z
LAST-MODIFIED:20200328T040334Z
UID:10767-1584504000-1588716000@www.vaasi.foundation
SUMMARY:Vaasi 48 Days Mission
DESCRIPTION:Vaasi 48 Days Mission. \n48 days – 1 Mandalam \nVaasi Yogi do Vaasi practice and Samayama level meditation during these 48 days period in multiples to overcome current Global situation. When all the yogis do Vaasi at the same time bring the bliss\,joy\, happiness to them and the world around us in multiples. \nIf any specific task is done at specific time consistently for 48 days it becomes a habit. \nchannel your energy in a positive way! \nLet us do it as a team!\nAfter completion report it in Vaasi 48 Days Mission whatsup Group. \nJai Guru Dev!
URL:https://www.vaasi.foundation/event/vaasi-48-days-mission/
LOCATION:on line\, United States
CATEGORIES:On Line
ATTACH;FMTTYPE=image/jpeg:https://www.vaasi.foundation/wp-content/uploads/2019/09/Swamiji-Meditative-Mood.jpg
END:VEVENT
BEGIN:VEVENT
DTSTART;TZID=America/Chicago:20200314T180000
DTEND;TZID=America/Chicago:20200326T220000
DTSTAMP:20260423T132822
CREATED:20200307T140406Z
LAST-MODIFIED:20200308T132821Z
UID:10288-1584208800-1585260000@www.vaasi.foundation
SUMMARY:Sthoola Vaasi Yoga Advanced - Atlanta (English)
DESCRIPTION:This is a 2 week course for those Vaasi Yogis in Atlanta area who were initiated in Vaasi Yoga in 2019 or prior by Swamiji and have been practicing upto intermediate level Vaasi Kriyas on a regular basis. This course is to complete remaining techniques of Sthoola Vaasi Yoga. This course will be conducted in English language only.  \n[vc_cta h2=”Qualified Vaasi Yogis Only” h4=”” add_button=”right” btn_title=”Reserve Your Spot Now!” btn_size=”lg” btn_link=”url:https%3A%2F%2Fwww.vaasi.foundation%2Fproduct%2Fsthoola-vaasi-advance-course-dfw%2F|title:Sthoola%20Vaasi%20Advance%20Course||”]This course is for Vaasi Yogis who wish to learn the remaining techniques of Sthoola Vaasi and complete the Sthoola Vaasi course.[/vc_cta] \nThe classes (includes lectures and Vaasi initiations) will be conducted in following sessions: \nSession 1 (Sat) : 6:00 PM to 10:00 PM (4 hours approximately)\nSession 2 (Sun): 6:00 PM to 10:00 PM (4 hours approximately)\nSession 3 (Mon): 6:00 PM to 10:00 PM (4 hours approximately)\nSession 4 (Tue): 6:00 PM to 10:00 PM (4 hours approximately)\nSession 5 (Wed): 6:00 PM to 10:00 PM (4 hours approximately)\nSession 6 (Thu) : 6:00 PM to 10:00 PM (4 hours approximately) \n(Friday\,Saturday and Sunday – no classes) \nSession 7 (Mon): 6:00 PM to 10:00 PM (4 hours approximately)\nSession 8 (Tue): 6:00 PM to 10:00 PM (4 hours approximately)\nSession 9 (Wed): 6:00 PM to 10:00 PM (4 hours approximately)\nSession 10 (Thu): 6:00 PM to 10:00 PM (4 hours approximately) \nOnce you have reserved your spot for this course by making payment for this course\, you will receive guidelines for attending the course along with venue and timing details etc. and you will be added to the WhatsApp group for this course for better collaboration. \nNOTE: Please do not eat heavy food before the class. Preferably\, do not eat anything after 4 PM on the days of the class.
URL:https://www.vaasi.foundation/event/sthoola-vaasi-yoga-advanced-atlanta/
LOCATION:Atlanta\, Georgia\, TBD\, Atlanta\, GA\, United States
CATEGORIES:Advanced
ATTACH;FMTTYPE=image/jpeg:https://www.vaasi.foundation/wp-content/uploads/2019/03/Vaasi-Yoga-Image-12.jpg
END:VEVENT
BEGIN:VEVENT
DTSTART;TZID=America/Chicago:20200314T080000
DTEND;TZID=America/Chicago:20200315T170000
DTSTAMP:20260423T132822
CREATED:20200125T033801Z
LAST-MODIFIED:20200305T055628Z
UID:9250-1584172800-1584291600@www.vaasi.foundation
SUMMARY:Vaasi-Yoga for Beginners-Atlanta (Tamil)
DESCRIPTION:This is a weekend batch of aspiring Vaasi Yogis in Tamil language. This is a beginner Vaasi Yoga course. \nThe classes (includes lectures and Vaasi initiations) will be conducted in two sessions: \nSession 1 (Saturday): 8 AM to 5 PM with a lunch break around noon\nSession 2 (Sunday): 8 AM to 5 PM with a lunch break around noon \nOnce accepted into this course\, individuals will receive guidelines for attending the course along with venue and timing details etc.
URL:https://www.vaasi.foundation/event/vaasi-yoga-for-beginners-atlanta-english-14-mar-2020/
LOCATION:Atlanta\, Georgia\, TBD\, Atlanta\, GA\, United States
CATEGORIES:Beginner
ATTACH;FMTTYPE=image/jpeg:https://www.vaasi.foundation/wp-content/uploads/2019/03/Vaasi-Yoga-Image-6.jpg
END:VEVENT
BEGIN:VEVENT
DTSTART;TZID=America/Chicago:20200307T113000
DTEND;TZID=America/Chicago:20200308T170000
DTSTAMP:20260423T132822
CREATED:20200305T143125Z
LAST-MODIFIED:20200305T143355Z
UID:10242-1583580600-1583686800@www.vaasi.foundation
SUMMARY:Vaasi-Yoga for Beginners-Detroit\, Michigan (Tamil)
DESCRIPTION:This is a weekend batch of aspiring Vaasi Yogis in Tamil language. This is a beginner Vaasi Yoga course. \nThe classes (includes lectures and Vaasi initiations) will be conducted in two sessions: \nSession 1 (Saturday): 11:30 AM to 7:30 PM\nSession 2 (Sunday): 8:00 AM to 5:00 PM with a lunch break around noon \nTo register for this course\, please submit your details using this form: https://forms.gle/6RGC6WtNeN6tNZ8cA \nOnce accepted into this course\, individuals will receive guidelines for attending the course along with venue and timing details etc.
URL:https://www.vaasi.foundation/event/vaasi-yoga-for-beginners-detroit-tamil-mar-07-2020/
LOCATION:Detroit\, MI\, Detroit\, MI\, United States
CATEGORIES:Beginner
ATTACH;FMTTYPE=image/jpeg:https://www.vaasi.foundation/wp-content/uploads/2019/03/Vaasi-Yoga-Image-6.jpg
END:VEVENT
BEGIN:VEVENT
DTSTART;TZID=America/Chicago:20200302T180000
DTEND;TZID=America/Chicago:20200312T220000
DTSTAMP:20260423T132822
CREATED:20200119T041958Z
LAST-MODIFIED:20200313T130911Z
UID:9119-1583172000-1584050400@www.vaasi.foundation
SUMMARY:Sthoola Vaasi Yoga Advanced - DFW (English)
DESCRIPTION:This is a 2 week course for those Vaasi Yogis in DFW area who were initiated in Vaasi Yoga in 2019 or prior by Swamiji and have been practicing on a regular basis. This course is to complete remaining techniques of Sthoola Vaasi Yoga. This course will be conducted in English language only. Everyone in the DFW area need to signup for this course regardless of their language preference. \n[vc_cta h2=”Qualified Vaasi Yogis Only” h4=”” add_button=”right” btn_title=”Reserve Your Spot Now!” btn_size=”lg” btn_link=”url:https%3A%2F%2Fwww.vaasi.foundation%2Fproduct%2Fsthoola-vaasi-advance-course-dfw%2F|title:Sthoola%20Vaasi%20Advance%20Course||”]This course is for Vaasi Yogis who wish to learn the remaining techniques of Sthoola Vaasi and complete the Sthoola Vaasi course.[/vc_cta] \nThe classes (includes lectures and Vaasi initiations) will be conducted in following sessions: \nSession 1 (Mon) : 6:00 PM to 10:00 PM (4 hours approximately)\nSession 2 (Tue): 6:00 PM to 10:00 PM (4 hours approximately)\nSession 3 (Wed): 6:00 PM to 10:00 PM (4 hours approximately)\nSession 4 (Thu): 6:00 PM to 10:00 PM (4 hours approximately)\nSession 5 (Fri): 6:00 PM to 10:00 PM (4 hours approximately)\n(Saturday and Sunday – no classes)\nSession 6 (Mon) : 6:00 PM to 10:00 PM (4 hours approximately)\nSession 7 (Tue): 6:00 PM to 10:00 PM (4 hours approximately)\nSession 8 (Wed): 6:00 PM to 10:00 PM (4 hours approximately)\nSession 9 (Thu): 6:00 PM to 10:00 PM (4 hours approximately) \nOnce you have reserved your spot for this course by making payment for this course\, you will receive guidelines for attending the course along with venue and timing details etc. and you will be added to the WhatsApp group for this course for better collaboration. \nNOTE: Please do not eat heavy food before the class. Preferrably\, do not eat anything after 4 PM on the days of the class.
URL:https://www.vaasi.foundation/event/sthoola-vaasi-yoga-advanced-dfw-english/
LOCATION:TBD\, To Be Announced\, DFW Area\, TX\, United States
CATEGORIES:Advanced
ATTACH;FMTTYPE=image/jpeg:https://www.vaasi.foundation/wp-content/uploads/2019/03/Vaasi-Yoga-Image-12.jpg
END:VEVENT
BEGIN:VEVENT
DTSTART;TZID=America/Chicago:20200229T080000
DTEND;TZID=America/Chicago:20200301T170000
DTSTAMP:20260423T132822
CREATED:20200214T135653Z
LAST-MODIFIED:20200217T165823Z
UID:9629-1582963200-1583082000@www.vaasi.foundation
SUMMARY:Vaasi-Yoga for Beginners-Houston (English)
DESCRIPTION:This is a weekend batch of aspiring Vaasi Yogis in English language. This is a beginner Vaasi Yoga course. \nThe classes (includes lectures and Vaasi initiations) will be conducted in two sessions: \nSession 1 (Saturday): 8 AM to 5 PM with a lunch break around noon\nSession 2 (Sunday): 8 AM to 5 PM with a lunch break around noon \nTo register for this course\, please submit your details using this form: https://forms.gle/s9QZ5PzJRSiXJTrp8 \nOnce accepted into this course\, individuals will receive guidelines for attending the course along with venue and timing details etc.
URL:https://www.vaasi.foundation/event/vaasi-yoga-for-beginners-houston-english/
LOCATION:Houston\, Texas\, ClearLake\, Houston\, TX\, United States
CATEGORIES:Beginner
ATTACH;FMTTYPE=image/jpeg:https://www.vaasi.foundation/wp-content/uploads/2019/03/Vaasi-Yoga-Image-6.jpg
END:VEVENT
BEGIN:VEVENT
DTSTART;TZID=America/Chicago:20200220T180000
DTEND;TZID=America/Chicago:20200223T050000
DTSTAMP:20260423T132822
CREATED:20190915T224843Z
LAST-MODIFIED:20200106T035722Z
UID:6692-1582221600-1582434000@www.vaasi.foundation
SUMMARY:Maha Shivaratri-2020 Celebrations with Swamiji
DESCRIPTION:
URL:https://www.vaasi.foundation/event/maha-shivaratri-2020-celebrations-with-swamiji/
LOCATION:Dallas\, TX\, Irving\, TX\, 75063\, United States
ATTACH;FMTTYPE=image/jpeg:https://www.vaasi.foundation/wp-content/uploads/2019/09/Maha-Shivaratri1-e1578282877803.jpg
END:VEVENT
BEGIN:VEVENT
DTSTART;TZID=America/Chicago:20200215T080000
DTEND;TZID=America/Chicago:20200216T170000
DTSTAMP:20260423T132822
CREATED:20191220T161149Z
LAST-MODIFIED:20200131T171501Z
UID:8643-1581753600-1581872400@www.vaasi.foundation
SUMMARY:Vaasi-Yoga for Beginners-DFW (English)
DESCRIPTION:This is a weekend batch of aspiring Vaasi Yogis who would prefer the lecture in English language. This is a beginner Vaasi Yoga course. \nThe classes (includes lectures and Vaasi initiations) will be conducted in two sessions: \nSession 1 (Saturday): 8 AM to 5 PM with a lunch break around noon\nSession 2 (Sunday): 8 AM to 5 PM with a lunch break around noon \nTo register for the course\, please submit your details using this form: https://forms.gle/i83Sm5KJqnktyjFLA
URL:https://www.vaasi.foundation/event/vaasi-yoga-for-beginners-dfw-english-20200215-20200216/
LOCATION:Dallas\, TX\, 1701 Spring Valley Rd\, Carrollton\, TX\, 75006\, United States
CATEGORIES:Beginner
ATTACH;FMTTYPE=image/jpeg:https://www.vaasi.foundation/wp-content/uploads/2019/03/Vaasi-Yoga-Image-6.jpg
END:VEVENT
BEGIN:VEVENT
DTSTART;TZID=America/Chicago:20200208T080000
DTEND;TZID=America/Chicago:20200209T170000
DTSTAMP:20260423T132822
CREATED:20191220T160051Z
LAST-MODIFIED:20200131T171523Z
UID:8640-1581148800-1581267600@www.vaasi.foundation
SUMMARY:Vaasi-Yoga for Beginners-DFW (Tamil)
DESCRIPTION:This is a weekend batch of aspiring Vaasi Yogis who would prefer the lecture in Tamil language. This is a beginner Vaasi Yoga course. \nThe classes (includes lectures and Vaasi initiations) will be conducted in two sessions: \nSession 1 (Saturday): 8 AM to 5 PM with a lunch break around noon\nSession 2 (Sunday): 8 AM to 5 PM with a lunch break around noon \nTo register for the course\, please submit your details using this form: https://forms.gle/i83Sm5KJqnktyjFLA \n 
URL:https://www.vaasi.foundation/event/vaasi-yoga-for-beginners-dfw-tamil-feb-20200208-20200209/
LOCATION:Dallas\, TX\, 1701 Spring Valley Rd\, Carrollton\, TX\, 75006\, United States
CATEGORIES:Beginner
ATTACH;FMTTYPE=image/jpeg:https://www.vaasi.foundation/wp-content/uploads/2019/03/Vaasi-Yoga-Image-6.jpg
END:VEVENT
BEGIN:VEVENT
DTSTART;TZID=America/Chicago:20190513T180000
DTEND;TZID=America/Chicago:20190516T203000
DTSTAMP:20260423T132822
CREATED:20190511T203433Z
LAST-MODIFIED:20190526T153908Z
UID:6582-1557770400-1558038600@www.vaasi.foundation
SUMMARY:Vaasi-Yoga for Beginners-St Louis\, MI
DESCRIPTION:This is for beginners. It will be  a 4 day course. Talk to the organizers for more details.
URL:https://www.vaasi.foundation/event/vaasi-yoga-for-beginners/
LOCATION:on line\, United States
CATEGORIES:Beginner
ATTACH;FMTTYPE=image/jpeg:https://www.vaasi.foundation/wp-content/uploads/2019/03/Vaasi-Yoga-Image-6.jpg
END:VEVENT
END:VCALENDAR